BEGIN:VCALENDAR
VERSION:2.0
PRODID:-//Schützengau Friedberg - ECPv6.15.18//NONSGML v1.0//EN
CALSCALE:GREGORIAN
METHOD:PUBLISH
X-WR-CALNAME:Schützengau Friedberg
X-ORIGINAL-URL:https://schuetzengau-friedberg.de
X-WR-CALDESC:Veranstaltungen für Schützengau Friedberg
REFRESH-INTERVAL;VALUE=DURATION:PT1H
X-Robots-Tag:noindex
X-PUBLISHED-TTL:PT1H
BEGIN:VTIMEZONE
TZID:UTC
BEGIN:STANDARD
TZOFFSETFROM:+0000
TZOFFSETTO:+0000
TZNAME:UTC
DTSTART:20230101T000000
END:STANDARD
END:VTIMEZONE
BEGIN:VEVENT
DTSTART;TZID=UTC:20241103T100000
DTEND;TZID=UTC:20241103T130000
DTSTAMP:20260421T032621
CREATED:20241029T193432Z
LAST-MODIFIED:20241029T193432Z
UID:2173-1730628000-1730638800@schuetzengau-friedberg.de
SUMMARY:1. Schützenmeister Stammtisch
DESCRIPTION:Schützenmeister Stammtisch\, \nes handelt sich hier um eine freiwillige Teilnahme in lockerer Runde\, die einem gemütlichen\nBeisammensein und Austausch dienen soll.
URL:https://schuetzengau-friedberg.de/event/1-schuetzenmeister-stammtisch/
LOCATION:Schützenheim SG Ried\, Sportheimstraße 12\, Ried\, Bayern\, 86510\, Deutschland
CATEGORIES:Gau-Veranstaltung
END:VEVENT
END:VCALENDAR