BEGIN:VCALENDAR
VERSION:2.0
PRODID:-//Schützengau Friedberg - ECPv6.15.18//NONSGML v1.0//EN
CALSCALE:GREGORIAN
METHOD:PUBLISH
X-WR-CALNAME:Schützengau Friedberg
X-ORIGINAL-URL:https://schuetzengau-friedberg.de
X-WR-CALDESC:Veranstaltungen für Schützengau Friedberg
REFRESH-INTERVAL;VALUE=DURATION:PT1H
X-Robots-Tag:noindex
X-PUBLISHED-TTL:PT1H
BEGIN:VTIMEZONE
TZID:UTC
BEGIN:STANDARD
TZOFFSETFROM:+0000
TZOFFSETTO:+0000
TZNAME:UTC
DTSTART:20230101T000000
END:STANDARD
END:VTIMEZONE
BEGIN:VEVENT
DTSTART;TZID=UTC:20240906T190000
DTEND;TZID=UTC:20240906T230000
DTSTAMP:20260421T105336
CREATED:20240628T204546Z
LAST-MODIFIED:20240628T204820Z
UID:2046-1725649200-1725663600@schuetzengau-friedberg.de
SUMMARY:Gauschiessen 2024
DESCRIPTION:Eröffnung 54. Gauschiessen Sportschützengau Friedberg. \nVon 06.09. bis 22.09. findet bei der KK SG Harthausen-Paar das 54. Gauschiessen statt. \nDie Meisterschaft / Mannschaftswertung endet am Mittwoch\, 18.09. um 22:30 Uhr. \nDas Ausschreibungsheft kann unter https://kk-harthausen-paar.de heruntergeladen werden.
URL:https://schuetzengau-friedberg.de/event/gauschiessen-2024/
LOCATION:Schützenheim Harthausen\, Am Spielberg 14\, Friedberg/Harthausen\, 86316
CATEGORIES:Gau-Veranstaltung,Sport
END:VEVENT
BEGIN:VEVENT
DTSTART;TZID=UTC:20240909T180000
DTEND;TZID=UTC:20240909T230000
DTSTAMP:20260421T105336
CREATED:20240909T134328Z
LAST-MODIFIED:20240909T134328Z
UID:2065-1725904800-1725922800@schuetzengau-friedberg.de
SUMMARY:Gauschiessen 2024
DESCRIPTION:Heute von 18:30 bis 22:30 Uhr  findet bei der KK SG Harthausen-Paar das 54. Gauschiessen statt. \nDie Meisterschaft / Mannschaftswertung endet am Mittwoch\, 18.09. um 22:30 Uhr. \nDas Ausschreibungsheft kann unter https://kk-harthausen-paar.de heruntergeladen werden.
URL:https://schuetzengau-friedberg.de/event/gauschiessen-2024-2/
LOCATION:Schützenheim KK Harthausen-Paar
END:VEVENT
BEGIN:VEVENT
DTSTART;TZID=UTC:20240910T180000
DTEND;TZID=UTC:20240910T223000
DTSTAMP:20260421T105336
CREATED:20240909T135911Z
LAST-MODIFIED:20240909T135911Z
UID:2077-1725991200-1726007400@schuetzengau-friedberg.de
SUMMARY:Gauschiessen 2024
DESCRIPTION:Heute von 18:30 bis 22:30 Uhr  findet bei der KK SG Harthausen-Paar das 54. Gauschiessen statt. \nDie Meisterschaft / Mannschaftswertung endet am Mittwoch\, 18.09. um 22:30 Uhr. \nDas Ausschreibungsheft und aktuelle Ergebnisse können unter https://kk-harthausen-paar.de heruntergeladen werden.
URL:https://schuetzengau-friedberg.de/event/gauschiessen-2024-8/
LOCATION:Schützenheim KK Harthausen-Paar
END:VEVENT
BEGIN:VEVENT
DTSTART;TZID=UTC:20240911T180000
DTEND;TZID=UTC:20240911T223000
DTSTAMP:20260421T105336
CREATED:20240909T134835Z
LAST-MODIFIED:20240909T134835Z
UID:2069-1726077600-1726093800@schuetzengau-friedberg.de
SUMMARY:Gauschiessen 2024
DESCRIPTION:Heute von 18:30 bis 22:30 Uhr  findet bei der KK SG Harthausen-Paar das 54. Gauschiessen statt. \nDie Meisterschaft / Mannschaftswertung endet am Mittwoch\, 18.09. um 22:30 Uhr. \nDas Ausschreibungsheft kann unter https://kk-harthausen-paar.de heruntergeladen werden.
URL:https://schuetzengau-friedberg.de/event/gauschiessen-2024-4/
LOCATION:Schützenheim Harthausen\, Am Spielberg 14\, Friedberg/Harthausen\, 86316
END:VEVENT
BEGIN:VEVENT
DTSTART;TZID=UTC:20240912T180000
DTEND;TZID=UTC:20240912T223000
DTSTAMP:20260421T105336
CREATED:20240909T135014Z
LAST-MODIFIED:20240909T135014Z
UID:2071-1726164000-1726180200@schuetzengau-friedberg.de
SUMMARY:Gauschiessen 2024
DESCRIPTION:Heute von 18:30 bis 22:30 Uhr  findet bei der KK SG Harthausen-Paar das 54. Gauschiessen statt. \nDie Meisterschaft / Mannschaftswertung endet am Mittwoch\, 18.09. um 22:30 Uhr. \nDas Ausschreibungsheft kann unter https://kk-harthausen-paar.de heruntergeladen werden.
URL:https://schuetzengau-friedberg.de/event/gauschiessen-2024-5/
LOCATION:Schützenheim Harthausen\, Am Spielberg 14\, Friedberg/Harthausen\, 86316
END:VEVENT
BEGIN:VEVENT
DTSTART;TZID=UTC:20240913T180000
DTEND;TZID=UTC:20240913T223000
DTSTAMP:20260421T105336
CREATED:20240909T135128Z
LAST-MODIFIED:20240909T135128Z
UID:2073-1726250400-1726266600@schuetzengau-friedberg.de
SUMMARY:Gauschiessen 2024
DESCRIPTION:Heute von 18:30 bis 22:30 Uhr  findet bei der KK SG Harthausen-Paar das 54. Gauschiessen statt. \nDie Meisterschaft / Mannschaftswertung endet am Mittwoch\, 18.09. um 22:30 Uhr. \nDas Ausschreibungsheft kann unter https://kk-harthausen-paar.de heruntergeladen werden.
URL:https://schuetzengau-friedberg.de/event/gauschiessen-2024-6/
LOCATION:Schützenheim Harthausen\, Am Spielberg 14\, Friedberg/Harthausen\, 86316
END:VEVENT
BEGIN:VEVENT
DTSTART;TZID=UTC:20240916T180000
DTEND;TZID=UTC:20240916T223000
DTSTAMP:20260421T105336
CREATED:20240909T135721Z
LAST-MODIFIED:20240909T135721Z
UID:2075-1726509600-1726525800@schuetzengau-friedberg.de
SUMMARY:Gauschiessen 2024
DESCRIPTION:Heute von 18:30 bis 22:30 Uhr  findet bei der KK SG Harthausen-Paar das 54. Gauschiessen statt. \nDie Meisterschaft / Mannschaftswertung endet am Mittwoch\, 18.09. um 22:30 Uhr. \nDas Ausschreibungsheft und aktuelle Ergebnisse können unter https://kk-harthausen-paar.de heruntergeladen werden.
URL:https://schuetzengau-friedberg.de/event/gauschiessen-2024-7/
LOCATION:Schützenheim Harthausen\, Am Spielberg 14\, Friedberg/Harthausen\, 86316
END:VEVENT
BEGIN:VEVENT
DTSTART;TZID=UTC:20240917T180000
DTEND;TZID=UTC:20240917T223000
DTSTAMP:20260421T105336
CREATED:20240909T134637Z
LAST-MODIFIED:20240909T140328Z
UID:2067-1726596000-1726612200@schuetzengau-friedberg.de
SUMMARY:Gauschiessen 2024
DESCRIPTION:Heute von 18:30 bis 22:30 Uhr  findet bei der KK SG Harthausen-Paar das 54. Gauschiessen statt. \nDie Meisterschaft / Mannschaftswertung endet am Mittwoch\, 18.09. um 22:30 Uhr. \nDas Ausschreibungsheft kann unter https://kk-harthausen-paar.de heruntergeladen werden.
URL:https://schuetzengau-friedberg.de/event/gauschiessen-2024-3/
LOCATION:Schützenheim KK Harthausen-Paar
END:VEVENT
BEGIN:VEVENT
DTSTART;TZID=UTC:20240918T180000
DTEND;TZID=UTC:20240918T223000
DTSTAMP:20260421T105336
CREATED:20240909T140030Z
LAST-MODIFIED:20240909T140030Z
UID:2079-1726682400-1726698600@schuetzengau-friedberg.de
SUMMARY:Gauschiessen 2024
DESCRIPTION:Heute von 18:30 bis 22:30 Uhr  findet bei der KK SG Harthausen-Paar das 54. Gauschiessen statt. \nDie Meisterschaft / Mannschaftswertung endet am Mittwoch\, 18.09. um 22:30 Uhr. \nDas Ausschreibungsheft und aktuelle Ergebnisse können unter https://kk-harthausen-paar.de heruntergeladen werden.
URL:https://schuetzengau-friedberg.de/event/gauschiessen-2024-9/
LOCATION:Schützenheim KK Harthausen-Paar
END:VEVENT
BEGIN:VEVENT
DTSTART;TZID=UTC:20240919T180000
DTEND;TZID=UTC:20240919T223000
DTSTAMP:20260421T105336
CREATED:20240919T013437Z
LAST-MODIFIED:20240919T013933Z
UID:2086-1726768800-1726785000@schuetzengau-friedberg.de
SUMMARY:Gauschiessen 2024
DESCRIPTION:Heute von 18:30 bis 22:30 Uhr  findet bei der KK SG Harthausen-Paar das 54. Gauschiessen statt. \nEin Tipp an alle\, die sich noch für das Finalschiessen\, wozu die 5 besten Meisterserien gewertet werden\,  qualifizieren wollen. \nDas Ausschreibungsheft und aktuelle Ergebnisse können unter https://kk-harthausen-paar.de heruntergeladen werden.
URL:https://schuetzengau-friedberg.de/event/gauschiessen-2024-10/
LOCATION:Schützenheim Harthausen\, Am Spielberg 14\, Friedberg/Harthausen\, 86316
END:VEVENT
BEGIN:VEVENT
DTSTART;TZID=UTC:20240920T180000
DTEND;TZID=UTC:20240920T223000
DTSTAMP:20260421T105336
CREATED:20240919T013829Z
LAST-MODIFIED:20240919T013829Z
UID:2088-1726855200-1726871400@schuetzengau-friedberg.de
SUMMARY:Gauschiessen 2024
DESCRIPTION:Ein Tipp an alle\, die sich noch für das Finalschiessen\, wozu die 5 besten Meisterserien gewertet werden\,  qualifizieren wollen. \nHeute von 18:30 bis 22:30 Uhr  findet bei der KK SG Harthausen-Paar das 54. Gauschiessen statt. \nDas Ausschreibungsheft und aktuelle Ergebnisse können unter https://kk-harthausen-paar.de heruntergeladen werden.
URL:https://schuetzengau-friedberg.de/event/gauschiessen-2024-11/
LOCATION:Schützenheim KK Harthausen-Paar
CATEGORIES:Sport
END:VEVENT
BEGIN:VEVENT
DTSTART;TZID=UTC:20240921T163000
DTEND;TZID=UTC:20240921T213000
DTSTAMP:20260421T105336
CREATED:20240920T114818Z
LAST-MODIFIED:20240920T114818Z
UID:2096-1726936200-1726954200@schuetzengau-friedberg.de
SUMMARY:Gauschiessen 2024
DESCRIPTION:Ein Tipp an alle\, die sich noch für das Finalschiessen\, wozu die 5 besten Meisterserien gewertet werden\,  qualifizieren wollen. \nHeute von 17:00 bis 21:30 Uhr  findet bei der KK SG Harthausen-Paar das 54. Gauschiessen statt. \nDas Ausschreibungsheft und aktuelle Ergebnisse können unter https://kk-harthausen-paar.de heruntergeladen werden.
URL:https://schuetzengau-friedberg.de/event/gauschiessen-2024-12/
LOCATION:Schützenheim KK Harthausen-Paar
END:VEVENT
BEGIN:VEVENT
DTSTART;TZID=UTC:20240922T090000
DTEND;TZID=UTC:20240922T130000
DTSTAMP:20260421T105336
CREATED:20240920T115210Z
LAST-MODIFIED:20240920T115743Z
UID:2098-1726995600-1727010000@schuetzengau-friedberg.de
SUMMARY:Gauschiessen 2024 letzter Tag
DESCRIPTION:Heute letzte Möglichkeit. Ein Tipp an alle\, die sich noch für das Finalschiessen\, wozu die 5 besten Meisterserien gewertet werden\,  qualifizieren wollen. \nHeute von 9:00 bis 13:00 Uhr  findet bei der KK SG Harthausen-Paar das 54. Gauschiessen statt. \nDas Ausschreibungsheft und aktuelle Ergebnisse können unter https://kk-harthausen-paar.de heruntergeladen werden.
URL:https://schuetzengau-friedberg.de/event/2098/
LOCATION:Schützenheim KK Harthausen-Paar
END:VEVENT
BEGIN:VEVENT
DTSTART;TZID=UTC:20240927T170000
DTEND;TZID=UTC:20240927T223000
DTSTAMP:20260421T105336
CREATED:20240917T195259Z
LAST-MODIFIED:20240917T195259Z
UID:2082-1727456400-1727476200@schuetzengau-friedberg.de
SUMMARY:Finalwettkämpfe Teil 1 Gauschiessen 2024
DESCRIPTION:Heute finden folgende Finalwettkämpfe unter den besten 8 Schützen und Schützinnen\, welche mindestens 5 Meisterserien geschossen haben\, statt. Die ausgeschriebenen Preisgelder werden direkt im Finalschiessen nach dem K.O. Modus ausgegeben. \nStart  18:00 Uhr Luftgewehr Schülerklasse freihand männlich /weiblich \nStart  18:45 Uhr Luftgewehr  Jugendklasse freihand männlich /weiblich \nStart  19:30 Uhr Luftpistole DAMEN I bis IV mit Juniorinnen und  Jugendklasse weiblich \nStart  20:15 Uhr Luftgewehr HERREN  I bis IV \nStart  21:00 Uhr Luftgewehr DAMEN  I bis IV \nStart  21:45 Uhr Luftpistole Auflage  männlich /weiblich \n 
URL:https://schuetzengau-friedberg.de/event/finalwettkaempfe-teil-1-gauschiessen-2024/
LOCATION:Schützenheim KK Harthausen-Paar
CATEGORIES:Sport
END:VEVENT
BEGIN:VEVENT
DTSTART;TZID=UTC:20240928T150000
DTEND;TZID=UTC:20240928T235000
DTSTAMP:20260421T105336
CREATED:20240917T200231Z
LAST-MODIFIED:20240917T200231Z
UID:2084-1727535600-1727567400@schuetzengau-friedberg.de
SUMMARY:Finale Teil 2 und Siegerehrung Gauschiessen 2024
DESCRIPTION:Heute finden folgende Finalwettkämpfe unter den besten 8 Schützen und Schützinnen\, welche mindestens 5 Meisterserien geschossen haben\, statt. Die ausgeschriebenen Preisgelder werden direkt im Finalschiessen nach dem K.O. Modus ausgegeben. \nStart  16:00 Uhr Luftpistole Herren I bis IV  mit Junioren \nStart  16:45 Uhr Luftgewehr  Auflage männlich /weiblich \nStart  17:30 Uhr Luftgewehr  Junioren I und II  männlich /weiblich \nim Anschluss findet die Siegerehrung mit Preisverteilung des Gauschiessen statt.
URL:https://schuetzengau-friedberg.de/event/finale-teil-2-und-siegerehrung-gauschiessen-2024/
LOCATION:Schützenheim KK Harthausen-Paar
CATEGORIES:Gau-Veranstaltung,Sport
END:VEVENT
END:VCALENDAR