BEGIN:VCALENDAR
VERSION:2.0
PRODID:-//Schützengau Friedberg - ECPv6.15.18//NONSGML v1.0//EN
CALSCALE:GREGORIAN
METHOD:PUBLISH
X-ORIGINAL-URL:https://schuetzengau-friedberg.de
X-WR-CALDESC:Veranstaltungen für Schützengau Friedberg
REFRESH-INTERVAL;VALUE=DURATION:PT1H
X-Robots-Tag:noindex
X-PUBLISHED-TTL:PT1H
BEGIN:VTIMEZONE
TZID:UTC
BEGIN:STANDARD
TZOFFSETFROM:+0000
TZOFFSETTO:+0000
TZNAME:UTC
DTSTART:20230101T000000
END:STANDARD
END:VTIMEZONE
BEGIN:VEVENT
DTSTART;TZID=UTC:20241103T100000
DTEND;TZID=UTC:20241103T130000
DTSTAMP:20260421T092253
CREATED:20241029T193432Z
LAST-MODIFIED:20241029T193432Z
UID:2173-1730628000-1730638800@schuetzengau-friedberg.de
SUMMARY:1. Schützenmeister Stammtisch
DESCRIPTION:Schützenmeister Stammtisch\, \nes handelt sich hier um eine freiwillige Teilnahme in lockerer Runde\, die einem gemütlichen\nBeisammensein und Austausch dienen soll.
URL:https://schuetzengau-friedberg.de/event/1-schuetzenmeister-stammtisch/
LOCATION:Schützenheim SG Ried\, Sportheimstraße 12\, Ried\, Bayern\, 86510\, Deutschland
CATEGORIES:Gau-Veranstaltung
END:VEVENT
BEGIN:VEVENT
DTSTART;TZID=UTC:20241116T150000
DTEND;TZID=UTC:20241116T210000
DTSTAMP:20260421T092253
CREATED:20241024T183730Z
LAST-MODIFIED:20241024T183730Z
UID:2153-1731769200-1731790800@schuetzengau-friedberg.de
SUMMARY:Gaumeisterschaft 2025 Zimmerstutzen-Termininfo
DESCRIPTION:GM 2025 Zimmerstutzen-Termininfo
URL:https://schuetzengau-friedberg.de/event/gaumeisterschaft-2025-zimmerstutzen-termininfo/
LOCATION:Schützenheim SG Ried\, Sportheimstraße 12\, Ried\, Bayern\, 86510\, Deutschland
CATEGORIES:Gau-Veranstaltung
END:VEVENT
BEGIN:VEVENT
DTSTART;TZID=UTC:20241117T083000
DTEND;TZID=UTC:20241117T190000
DTSTAMP:20260421T092253
CREATED:20241018T174603Z
LAST-MODIFIED:20241106T131954Z
UID:2147-1731832200-1731870000@schuetzengau-friedberg.de
SUMMARY:Landkreismeisterschaft 2024 und Landkreiskönigsschießen 2024
DESCRIPTION:Einladung Landkreismeisterschaft 2024 Einladung Landkreiskönigsschießen 2024
URL:https://schuetzengau-friedberg.de/event/landkreismeisterschaft-2024-und-landkreiskoenigsschiessen-2024/
LOCATION:Sportpark Kühbach\, Westumfahrung 1\, Kühbach\, Bayern\, 86556\, Deutschland
CATEGORIES:Bogen
END:VEVENT
BEGIN:VEVENT
DTSTART;TZID=UTC:20241123T083000
DTEND;TZID=UTC:20241123T140000
DTSTAMP:20260421T092253
CREATED:20241024T181507Z
LAST-MODIFIED:20241106T132024Z
UID:2150-1732350600-1732370400@schuetzengau-friedberg.de
SUMMARY:Ausschreibung zur Gaumeisterschaft Bogen-WA-18m Halle 2025
DESCRIPTION:Ausschreibung Gaumeisterschaft Bogen-WA-18m Halle 2025
URL:https://schuetzengau-friedberg.de/event/ausschreibung-zur-gaumeisterschaft-bogen-wa-18m-halle-2025/
LOCATION:Sporthalle der Konradin-Realschule\, Rothenbergstraße 4\, Friedberg\, Bayern\, 86316\, Deutschland
CATEGORIES:Bogen
END:VEVENT
END:VCALENDAR