BEGIN:VCALENDAR
VERSION:2.0
PRODID:-//Schützengau Friedberg - ECPv6.15.18//NONSGML v1.0//EN
CALSCALE:GREGORIAN
METHOD:PUBLISH
X-ORIGINAL-URL:https://schuetzengau-friedberg.de
X-WR-CALDESC:Veranstaltungen für Schützengau Friedberg
REFRESH-INTERVAL;VALUE=DURATION:PT1H
X-Robots-Tag:noindex
X-PUBLISHED-TTL:PT1H
BEGIN:VTIMEZONE
TZID:UTC
BEGIN:STANDARD
TZOFFSETFROM:+0000
TZOFFSETTO:+0000
TZNAME:UTC
DTSTART:20230101T000000
END:STANDARD
END:VTIMEZONE
BEGIN:VEVENT
DTSTART;TZID=UTC:20241026T193000
DTEND;TZID=UTC:20241027T000000
DTSTAMP:20260419T121005
CREATED:20240521T135854Z
LAST-MODIFIED:20240521T140440Z
UID:2022-1729971000-1729987200@schuetzengau-friedberg.de
SUMMARY:Gauschützenball 2024
DESCRIPTION:Dieses Jahr wird der Gauschützenball wieder in gewohnter Umgebung stattfinden. \nWir sind wieder im Gasthof Giggenbach in Baindlkirch zu Gast. \nDen musikalischen Rahmen bilden wieder „De‘ Wadlbeisser“.
URL:https://schuetzengau-friedberg.de/event/gauschuetzenball-2024/
LOCATION:Gasthof Giggenbach – Baindlkirch\, Rettenbachstraße 1\, Ried\, Bayern\, 86510\, Deutschland
CATEGORIES:Gau-Veranstaltung
END:VEVENT
END:VCALENDAR